Package: IsoformSwitchAnalyzeR Version: 2.7.0 Command: rm -rf IsoformSwitchAnalyzeR.buildbin-libdir && mkdir IsoformSwitchAnalyzeR.buildbin-libdir && E:\biocbuild\bbs-3.21-bioc\R\bin\R.exe CMD INSTALL --build --library=IsoformSwitchAnalyzeR.buildbin-libdir IsoformSwitchAnalyzeR_2.7.0.tar.gz StartedAt: 2025-02-10 08:00:13 -0500 (Mon, 10 Feb 2025) EndedAt: 2025-02-10 08:08:29 -0500 (Mon, 10 Feb 2025) EllapsedTime: 495.9 seconds RetCode: 0 Status: OK PackageFile: IsoformSwitchAnalyzeR_2.7.0.zip PackageFileSize: 5.26 MiB