Package: IsoformSwitchAnalyzeR Version: 2.7.0 Command: chmod a+r IsoformSwitchAnalyzeR -R && E:\biocbuild\bbs-3.21-bioc\R\bin\R.exe CMD build --keep-empty-dirs --no-resave-data IsoformSwitchAnalyzeR StartedAt: 2025-02-09 19:28:36 -0500 (Sun, 09 Feb 2025) EndedAt: 2025-02-09 19:33:25 -0500 (Sun, 09 Feb 2025) EllapsedTime: 288.9 seconds RetCode: 0 Status: OK PackageFile: IsoformSwitchAnalyzeR_2.7.0.tar.gz PackageFileSize: 4.487 MiB