Package: IsoformSwitchAnalyzeR Version: 2.7.0 Command: E:\biocbuild\bbs-3.21-bioc\R\bin\R.exe CMD check --no-multiarch --install=check:IsoformSwitchAnalyzeR.install-out.txt --library=E:\biocbuild\bbs-3.21-bioc\R\library --no-vignettes --timings IsoformSwitchAnalyzeR_2.7.0.tar.gz StartedAt: 2025-02-10 02:16:06 -0500 (Mon, 10 Feb 2025) EndedAt: 2025-02-10 02:29:31 -0500 (Mon, 10 Feb 2025) EllapsedTime: 804.7 seconds RetCode: 0 Status: OK CheckDir: IsoformSwitchAnalyzeR.Rcheck Warnings: 0