Package: IsoformSwitchAnalyzeR Version: 2.7.0 Command: E:\biocbuild\bbs-3.21-bioc\R\bin\R.exe CMD INSTALL IsoformSwitchAnalyzeR StartedAt: 2025-02-09 16:50:39 -0500 (Sun, 09 Feb 2025) EndedAt: 2025-02-09 16:53:23 -0500 (Sun, 09 Feb 2025) EllapsedTime: 164.4 seconds RetCode: 0 Status: OK