Package: KBoost Version: 1.15.0 Command: /Library/Frameworks/R.framework/Resources/bin/R CMD check --install=check:KBoost.install-out.txt --library=/Library/Frameworks/R.framework/Resources/library --no-vignettes --timings KBoost_1.15.0.tar.gz StartedAt: 2025-02-09 19:49:14 -0500 (Sun, 09 Feb 2025) EndedAt: 2025-02-09 19:49:33 -0500 (Sun, 09 Feb 2025) EllapsedTime: 19.3 seconds RetCode: 0 Status: OK CheckDir: KBoost.Rcheck Warnings: 0