Package: KBoost Version: 1.15.0 Command: /Library/Frameworks/R.framework/Resources/bin/R CMD INSTALL KBoost StartedAt: 2025-02-09 15:01:02 -0500 (Sun, 09 Feb 2025) EndedAt: 2025-02-09 15:01:03 -0500 (Sun, 09 Feb 2025) EllapsedTime: 1.0 seconds RetCode: 0 Status: OK