Package: KBoost Version: 1.15.0 Command: /Library/Frameworks/R.framework/Resources/bin/R CMD INSTALL KBoost StartedAt: 2025-02-09 15:03:32 -0500 (Sun, 09 Feb 2025) EndedAt: 2025-02-09 15:03:51 -0500 (Sun, 09 Feb 2025) EllapsedTime: 19.5 seconds RetCode: 0 Status: OK