Package: KBoost Version: 1.15.0 Command: /home/biocbuild/bbs-3.21-bioc/R/bin/R CMD INSTALL KBoost StartedAt: 2025-02-04 15:01:20 -0500 (Tue, 04 Feb 2025) EndedAt: 2025-02-04 15:01:26 -0500 (Tue, 04 Feb 2025) EllapsedTime: 5.4 seconds RetCode: 0 Status: OK