Package: KBoost Version: 1.15.0 Command: rm -rf KBoost.buildbin-libdir && mkdir KBoost.buildbin-libdir && E:\biocbuild\bbs-3.21-bioc\R\bin\R.exe CMD INSTALL --build --library=KBoost.buildbin-libdir KBoost_1.15.0.tar.gz StartedAt: 2025-02-10 08:00:40 -0500 (Mon, 10 Feb 2025) EndedAt: 2025-02-10 08:01:07 -0500 (Mon, 10 Feb 2025) EllapsedTime: 27.2 seconds RetCode: 0 Status: OK PackageFile: KBoost_1.15.0.zip PackageFileSize: 582.1 KiB