Package: KBoost Version: 1.15.0 Command: E:\biocbuild\bbs-3.21-bioc\R\bin\R.exe CMD check --no-multiarch --install=check:KBoost.install-out.txt --library=E:\biocbuild\bbs-3.21-bioc\R\library --no-vignettes --timings KBoost_1.15.0.tar.gz StartedAt: 2025-02-10 02:18:58 -0500 (Mon, 10 Feb 2025) EndedAt: 2025-02-10 02:19:51 -0500 (Mon, 10 Feb 2025) EllapsedTime: 52.5 seconds RetCode: 0 Status: OK CheckDir: KBoost.Rcheck Warnings: 0