Package: KCsmart Version: 2.65.0 Command: rm -rf KCsmart.buildbin-libdir && mkdir KCsmart.buildbin-libdir && /Users/biocbuild/BBS/utils/build-universal.sh KCsmart_2.65.0.tar.gz /Library/Frameworks/R.framework/Resources/bin/R KCsmart.buildbin-libdir StartedAt: 2025-02-09 22:18:51 -0500 (Sun, 09 Feb 2025) EndedAt: 2025-02-09 22:18:56 -0500 (Sun, 09 Feb 2025) EllapsedTime: 5.1 seconds RetCode: 0 Status: OK PackageFile: KCsmart_2.65.0.tgz PackageFileSize: 2.206 MiB