Package: KCsmart Version: 2.65.0 Command: /Library/Frameworks/R.framework/Resources/bin/R CMD check --install=check:KCsmart.install-out.txt --library=/Library/Frameworks/R.framework/Resources/library --no-vignettes --timings KCsmart_2.65.0.tar.gz StartedAt: 2025-02-09 19:49:17 -0500 (Sun, 09 Feb 2025) EndedAt: 2025-02-09 19:49:53 -0500 (Sun, 09 Feb 2025) EllapsedTime: 36.5 seconds RetCode: 0 Status: WARNINGS CheckDir: KCsmart.Rcheck Warnings: 1