Package: KCsmart Version: 2.65.0 Command: /home/biocbuild/R/R/bin/R CMD build --keep-empty-dirs --no-resave-data KCsmart StartedAt: 2025-01-28 23:51:56 -0000 (Tue, 28 Jan 2025) EndedAt: 2025-01-28 23:52:32 -0000 (Tue, 28 Jan 2025) EllapsedTime: 36.0 seconds RetCode: 0 Status: OK PackageFile: KCsmart_2.65.0.tar.gz PackageFileSize: 1.819 MiB