Package: KCsmart Version: 2.65.0 Command: /home/biocbuild/R/R/bin/R CMD INSTALL KCsmart StartedAt: 2025-01-29 20:22:04 -0000 (Wed, 29 Jan 2025) EndedAt: 2025-01-29 20:22:18 -0000 (Wed, 29 Jan 2025) EllapsedTime: 13.6 seconds RetCode: 0 Status: OK