Package: KCsmart Version: 2.65.0 Command: /Library/Frameworks/R.framework/Resources/bin/R CMD build --keep-empty-dirs --no-resave-data KCsmart StartedAt: 2025-02-09 17:13:50 -0500 (Sun, 09 Feb 2025) EndedAt: 2025-02-09 17:14:22 -0500 (Sun, 09 Feb 2025) EllapsedTime: 32.0 seconds RetCode: 0 Status: OK PackageFile: KCsmart_2.65.0.tar.gz PackageFileSize: 1.812 MiB