Package: KCsmart Version: 2.65.0 Command: /Library/Frameworks/R.framework/Resources/bin/R CMD INSTALL KCsmart StartedAt: 2025-02-09 15:36:14 -0500 (Sun, 09 Feb 2025) EndedAt: 2025-02-09 15:36:28 -0500 (Sun, 09 Feb 2025) EllapsedTime: 14.0 seconds RetCode: 0 Status: OK