Package: KCsmart Version: 2.65.0 Command: rm -rf KCsmart.buildbin-libdir && mkdir KCsmart.buildbin-libdir && E:\biocbuild\bbs-3.21-bioc\R\bin\R.exe CMD INSTALL --build --library=KCsmart.buildbin-libdir KCsmart_2.65.0.tar.gz StartedAt: 2025-02-13 08:11:49 -0500 (Thu, 13 Feb 2025) EndedAt: 2025-02-13 08:12:25 -0500 (Thu, 13 Feb 2025) EllapsedTime: 36.1 seconds RetCode: 0 Status: OK PackageFile: KCsmart_2.65.0.zip PackageFileSize: 2.097 MiB