Package: KCsmart Version: 2.65.0 Command: E:\biocbuild\bbs-3.21-bioc\R\bin\R.exe CMD check --no-multiarch --install=check:KCsmart.install-out.txt --library=E:\biocbuild\bbs-3.21-bioc\R\library --no-vignettes --timings KCsmart_2.65.0.tar.gz StartedAt: 2025-02-13 02:29:31 -0500 (Thu, 13 Feb 2025) EndedAt: 2025-02-13 02:31:23 -0500 (Thu, 13 Feb 2025) EllapsedTime: 111.6 seconds RetCode: 0 Status: WARNINGS CheckDir: KCsmart.Rcheck Warnings: 1