Package: KEGGgraph Version: 1.67.0 Command: /Library/Frameworks/R.framework/Resources/bin/R CMD INSTALL KEGGgraph StartedAt: 2025-02-04 15:03:16 -0500 (Tue, 04 Feb 2025) EndedAt: 2025-02-04 15:03:25 -0500 (Tue, 04 Feb 2025) EllapsedTime: 9.5 seconds RetCode: 0 Status: OK