Package: KEGGgraph Version: 1.67.0 Command: /home/biocbuild/bbs-3.21-bioc/R/bin/R CMD build --keep-empty-dirs --no-resave-data KEGGgraph StartedAt: 2025-02-09 17:50:12 -0500 (Sun, 09 Feb 2025) EndedAt: 2025-02-09 17:50:51 -0500 (Sun, 09 Feb 2025) EllapsedTime: 39.0 seconds RetCode: 0 Status: OK PackageFile: KEGGgraph_1.67.0.tar.gz PackageFileSize: 1.315 MiB