Package: KEGGgraph Version: 1.67.0 Command: /home/biocbuild/bbs-3.21-bioc/R/bin/R CMD INSTALL KEGGgraph StartedAt: 2025-02-09 15:14:54 -0500 (Sun, 09 Feb 2025) EndedAt: 2025-02-09 15:14:59 -0500 (Sun, 09 Feb 2025) EllapsedTime: 5.8 seconds RetCode: 0 Status: OK