Package: KEGGgraph Version: 1.67.0 Command: chmod a+r KEGGgraph -R && E:\biocbuild\bbs-3.21-bioc\R\bin\R.exe CMD build --keep-empty-dirs --no-resave-data KEGGgraph StartedAt: 2025-02-04 19:33:26 -0500 (Tue, 04 Feb 2025) EndedAt: 2025-02-04 19:34:22 -0500 (Tue, 04 Feb 2025) EllapsedTime: 56.5 seconds RetCode: 0 Status: OK PackageFile: KEGGgraph_1.67.0.tar.gz PackageFileSize: 1.303 MiB