Package: KEGGgraph Version: 1.67.0 Command: E:\biocbuild\bbs-3.21-bioc\R\bin\R.exe CMD INSTALL KEGGgraph StartedAt: 2025-02-04 15:45:29 -0500 (Tue, 04 Feb 2025) EndedAt: 2025-02-04 15:46:08 -0500 (Tue, 04 Feb 2025) EllapsedTime: 39.1 seconds RetCode: 0 Status: OK