Package: KEGGlincs Version: 1.33.0 Command: /home/biocbuild/R/R/bin/R CMD build --keep-empty-dirs --no-resave-data KEGGlincs StartedAt: 2025-01-28 23:52:32 -0000 (Tue, 28 Jan 2025) EndedAt: 2025-01-28 23:53:45 -0000 (Tue, 28 Jan 2025) EllapsedTime: 73.0 seconds RetCode: 0 Status: OK PackageFile: KEGGlincs_1.33.0.tar.gz PackageFileSize: 4.215 MiB