Package: KEGGlincs Version: 1.33.0 Command: /home/biocbuild/bbs-3.21-bioc/R/bin/R CMD check --install=check:KEGGlincs.install-out.txt --library=/home/biocbuild/bbs-3.21-bioc/R/site-library --timings KEGGlincs_1.33.0.tar.gz StartedAt: 2025-02-04 23:33:03 -0500 (Tue, 04 Feb 2025) EndedAt: 2025-02-04 23:36:48 -0500 (Tue, 04 Feb 2025) EllapsedTime: 224.3 seconds RetCode: 0 Status: OK CheckDir: KEGGlincs.Rcheck Warnings: 0