Package: KEGGlincs Version: 1.33.0 Command: E:\biocbuild\bbs-3.21-bioc\R\bin\R.exe CMD INSTALL KEGGlincs StartedAt: 2025-02-04 15:49:25 -0500 (Tue, 04 Feb 2025) EndedAt: 2025-02-04 15:49:52 -0500 (Tue, 04 Feb 2025) EllapsedTime: 26.9 seconds RetCode: 0 Status: OK