Package: KnowSeq Version: 1.21.0 Command: rm -rf KnowSeq.buildbin-libdir && mkdir KnowSeq.buildbin-libdir && /Users/biocbuild/BBS/utils/build-universal.sh KnowSeq_1.21.0.tar.gz /Library/Frameworks/R.framework/Resources/bin/R KnowSeq.buildbin-libdir StartedAt: 2025-02-09 22:18:59 -0500 (Sun, 09 Feb 2025) EndedAt: 2025-02-09 22:19:12 -0500 (Sun, 09 Feb 2025) EllapsedTime: 13.3 seconds RetCode: 0 Status: OK PackageFile: KnowSeq_1.21.0.tgz PackageFileSize: 6.594 MiB