Package: KnowSeq Version: 1.21.0 Command: /Library/Frameworks/R.framework/Resources/bin/R CMD build --keep-empty-dirs --no-resave-data KnowSeq StartedAt: 2025-02-09 16:45:29 -0500 (Sun, 09 Feb 2025) EndedAt: 2025-02-09 16:46:33 -0500 (Sun, 09 Feb 2025) EllapsedTime: 63.8 seconds RetCode: 0 Status: OK PackageFile: KnowSeq_1.21.0.tar.gz PackageFileSize: 8.26 MiB