Package: KnowSeq Version: 1.21.0 Command: /home/biocbuild/R/R/bin/R CMD build --keep-empty-dirs --no-resave-data KnowSeq StartedAt: 2025-01-28 23:53:12 -0000 (Tue, 28 Jan 2025) EndedAt: 2025-01-28 23:57:11 -0000 (Tue, 28 Jan 2025) EllapsedTime: 239.1 seconds RetCode: 0 Status: OK PackageFile: KnowSeq_1.21.0.tar.gz PackageFileSize: 7.953 MiB