Package: KnowSeq Version: 1.21.0 Command: /home/biocbuild/R/R/bin/R CMD check --install=check:KnowSeq.install-out.txt --library=/home/biocbuild/R/R/site-library --no-vignettes --timings KnowSeq_1.21.0.tar.gz StartedAt: 2025-01-28 11:52:36 -0000 (Tue, 28 Jan 2025) EndedAt: 2025-01-28 11:58:48 -0000 (Tue, 28 Jan 2025) EllapsedTime: 372.6 seconds RetCode: 0 Status: OK CheckDir: KnowSeq.Rcheck Warnings: 0