Package: KnowSeq Version: 1.21.0 Command: /home/biocbuild/R/R/bin/R CMD INSTALL KnowSeq StartedAt: 2025-01-29 20:25:11 -0000 (Wed, 29 Jan 2025) EndedAt: 2025-01-29 20:25:52 -0000 (Wed, 29 Jan 2025) EllapsedTime: 40.6 seconds RetCode: 0 Status: OK