Package: KnowSeq Version: 1.21.0 Command: /Library/Frameworks/R.framework/Resources/bin/R CMD build --keep-empty-dirs --no-resave-data KnowSeq StartedAt: 2025-02-12 17:11:18 -0500 (Wed, 12 Feb 2025) EndedAt: 2025-02-12 17:14:47 -0500 (Wed, 12 Feb 2025) EllapsedTime: 209.1 seconds RetCode: 0 Status: OK PackageFile: KnowSeq_1.21.0.tar.gz PackageFileSize: 8.261 MiB