Package: KnowSeq Version: 1.21.0 Command: /home/biocbuild/bbs-3.21-bioc/R/bin/R CMD build --keep-empty-dirs --no-resave-data KnowSeq StartedAt: 2025-02-09 17:50:53 -0500 (Sun, 09 Feb 2025) EndedAt: 2025-02-09 17:53:08 -0500 (Sun, 09 Feb 2025) EllapsedTime: 134.3 seconds RetCode: 0 Status: OK PackageFile: KnowSeq_1.21.0.tar.gz PackageFileSize: 8.216 MiB