Package: KnowSeq Version: 1.21.0 Command: /home/biocbuild/bbs-3.21-bioc/R/bin/R CMD check --install=check:KnowSeq.install-out.txt --library=/home/biocbuild/bbs-3.21-bioc/R/site-library --timings KnowSeq_1.21.0.tar.gz StartedAt: 2025-02-12 23:36:10 -0500 (Wed, 12 Feb 2025) EndedAt: 2025-02-12 23:42:41 -0500 (Wed, 12 Feb 2025) EllapsedTime: 390.9 seconds RetCode: 0 Status: OK CheckDir: KnowSeq.Rcheck Warnings: 0