Package: LACE Version: 2.11.0 Command: rm -rf LACE.buildbin-libdir && mkdir LACE.buildbin-libdir && /Users/biocbuild/BBS/utils/build-universal.sh LACE_2.11.0.tar.gz /Library/Frameworks/R.framework/Resources/bin/R LACE.buildbin-libdir StartedAt: 2025-02-05 00:46:12 -0500 (Wed, 05 Feb 2025) EndedAt: 2025-02-05 00:47:00 -0500 (Wed, 05 Feb 2025) EllapsedTime: 47.8 seconds RetCode: 0 Status: OK PackageFile: LACE_2.11.0.tgz PackageFileSize: 3.044 MiB