Package: LACE Version: 2.11.0 Command: /Library/Frameworks/R.framework/Resources/bin/R CMD INSTALL LACE StartedAt: 2025-02-09 15:27:53 -0500 (Sun, 09 Feb 2025) EndedAt: 2025-02-09 15:28:38 -0500 (Sun, 09 Feb 2025) EllapsedTime: 45.0 seconds RetCode: 0 Status: OK