Package: LACE Version: 2.11.0 Command: /home/biocbuild/bbs-3.21-bioc/R/bin/R CMD INSTALL LACE StartedAt: 2025-02-09 15:26:01 -0500 (Sun, 09 Feb 2025) EndedAt: 2025-02-09 15:26:35 -0500 (Sun, 09 Feb 2025) EllapsedTime: 34.0 seconds RetCode: 0 Status: OK