Package: LACE Version: 2.11.0 Command: rm -rf LACE.buildbin-libdir && mkdir LACE.buildbin-libdir && E:\biocbuild\bbs-3.21-bioc\R\bin\R.exe CMD INSTALL --build --library=LACE.buildbin-libdir LACE_2.11.0.tar.gz StartedAt: 2025-02-10 08:01:27 -0500 (Mon, 10 Feb 2025) EndedAt: 2025-02-10 08:02:22 -0500 (Mon, 10 Feb 2025) EllapsedTime: 55.2 seconds RetCode: 0 Status: OK PackageFile: LACE_2.11.0.zip PackageFileSize: 2.931 MiB