Package: LACE Version: 2.11.0 Command: chmod a+r LACE -R && E:\biocbuild\bbs-3.21-bioc\R\bin\R.exe CMD build --keep-empty-dirs --no-resave-data LACE StartedAt: 2025-02-04 19:34:28 -0500 (Tue, 04 Feb 2025) EndedAt: 2025-02-04 19:35:51 -0500 (Tue, 04 Feb 2025) EllapsedTime: 82.3 seconds RetCode: 0 Status: OK PackageFile: LACE_2.11.0.tar.gz PackageFileSize: 3.965 MiB