Package: LACE Version: 2.11.0 Command: E:\biocbuild\bbs-3.21-bioc\R\bin\R.exe CMD check --no-multiarch --install=check:LACE.install-out.txt --library=E:\biocbuild\bbs-3.21-bioc\R\library --no-vignettes --timings LACE_2.11.0.tar.gz StartedAt: 2025-02-05 02:48:33 -0500 (Wed, 05 Feb 2025) EndedAt: 2025-02-05 02:53:35 -0500 (Wed, 05 Feb 2025) EllapsedTime: 302.1 seconds RetCode: 0 Status: OK CheckDir: LACE.Rcheck Warnings: 0