Package: LACE Version: 2.11.0 Command: E:\biocbuild\bbs-3.21-bioc\R\bin\R.exe CMD INSTALL LACE StartedAt: 2025-02-09 16:09:56 -0500 (Sun, 09 Feb 2025) EndedAt: 2025-02-09 16:10:49 -0500 (Sun, 09 Feb 2025) EllapsedTime: 53.1 seconds RetCode: 0 Status: OK