Package: LEA Version: 3.19.4 Command: /Library/Frameworks/R.framework/Resources/bin/R CMD check --install=check:LEA.install-out.txt --library=/Library/Frameworks/R.framework/Resources/library --no-vignettes --timings LEA_3.19.4.tar.gz StartedAt: 2025-02-09 19:50:40 -0500 (Sun, 09 Feb 2025) EndedAt: 2025-02-09 19:51:40 -0500 (Sun, 09 Feb 2025) EllapsedTime: 59.8 seconds RetCode: 0 Status: OK CheckDir: LEA.Rcheck Warnings: 0