Package: LEA Version: 3.19.4 Command: /home/biocbuild/R/R/bin/R CMD INSTALL LEA StartedAt: 2025-01-29 19:30:12 -0000 (Wed, 29 Jan 2025) EndedAt: 2025-01-29 19:30:42 -0000 (Wed, 29 Jan 2025) EllapsedTime: 29.9 seconds RetCode: 0 Status: OK