Package: LEA Version: 3.19.4 Command: /Library/Frameworks/R.framework/Resources/bin/R CMD build --keep-empty-dirs --no-resave-data LEA StartedAt: 2025-02-03 17:14:45 -0500 (Mon, 03 Feb 2025) EndedAt: 2025-02-03 17:16:31 -0500 (Mon, 03 Feb 2025) EllapsedTime: 105.4 seconds RetCode: 0 Status: OK PackageFile: LEA_3.19.4.tar.gz PackageFileSize: 740.7 KiB