Package: LEA Version: 3.19.4 Command: /Library/Frameworks/R.framework/Resources/bin/R CMD check --install=check:LEA.install-out.txt --library=/Library/Frameworks/R.framework/Resources/library --no-vignettes --timings LEA_3.19.4.tar.gz StartedAt: 2025-02-03 21:20:33 -0500 (Mon, 03 Feb 2025) EndedAt: 2025-02-03 21:23:03 -0500 (Mon, 03 Feb 2025) EllapsedTime: 150.7 seconds RetCode: 0 Status: OK CheckDir: LEA.Rcheck Warnings: 0