Package: LEA Version: 3.19.4 Command: /home/biocbuild/bbs-3.21-bioc/R/bin/R CMD build --keep-empty-dirs --no-resave-data LEA StartedAt: 2025-02-09 17:51:08 -0500 (Sun, 09 Feb 2025) EndedAt: 2025-02-09 17:52:42 -0500 (Sun, 09 Feb 2025) EllapsedTime: 93.2 seconds RetCode: 0 Status: OK PackageFile: LEA_3.19.4.tar.gz PackageFileSize: 740.5 KiB