Package: LEA Version: 3.19.4 Command: /home/biocbuild/bbs-3.21-bioc/R/bin/R CMD INSTALL LEA StartedAt: 2025-02-09 15:03:39 -0500 (Sun, 09 Feb 2025) EndedAt: 2025-02-09 15:04:11 -0500 (Sun, 09 Feb 2025) EllapsedTime: 32.5 seconds RetCode: 0 Status: OK