Package: LEA Version: 3.19.4 Command: rm -rf LEA.buildbin-libdir && mkdir LEA.buildbin-libdir && E:\biocbuild\bbs-3.21-bioc\R\bin\R.exe CMD INSTALL --build --library=LEA.buildbin-libdir LEA_3.19.4.tar.gz StartedAt: 2025-02-04 08:15:06 -0500 (Tue, 04 Feb 2025) EndedAt: 2025-02-04 08:16:57 -0500 (Tue, 04 Feb 2025) EllapsedTime: 111.4 seconds RetCode: 0 Status: OK PackageFile: LEA_3.19.4.zip PackageFileSize: 956.7 KiB