Package: LEA Version: 3.19.4 Command: E:\biocbuild\bbs-3.21-bioc\R\bin\R.exe CMD check --no-multiarch --install=check:LEA.install-out.txt --library=E:\biocbuild\bbs-3.21-bioc\R\library --no-vignettes --timings LEA_3.19.4.tar.gz StartedAt: 2025-02-10 02:21:58 -0500 (Mon, 10 Feb 2025) EndedAt: 2025-02-10 02:25:11 -0500 (Mon, 10 Feb 2025) EllapsedTime: 192.9 seconds RetCode: 0 Status: OK CheckDir: LEA.Rcheck Warnings: 0