Package: LEA Version: 3.19.4 Command: E:\biocbuild\bbs-3.21-bioc\R\bin\R.exe CMD INSTALL LEA StartedAt: 2025-02-03 15:32:19 -0500 (Mon, 03 Feb 2025) EndedAt: 2025-02-03 15:33:44 -0500 (Mon, 03 Feb 2025) EllapsedTime: 85.1 seconds RetCode: 0 Status: OK